BEGIN:VCALENDAR
VERSION:2.0
METHOD:PUBLISH
PRODID:-//hacksw/handcal//NONSGML v1.0//EN
BEGIN:VEVENT
DTSTAMP:20260425T104330Z
DTSTART:20240225T090000Z
DTEND:20240225T130000Z
UID:20240225T090000Z-20240225T130000Z-116@kukav.de
SUMMARY:Brunch & Talk
DESCRIPTION:Brunch und Diskussion mit dem Thema “Politische Teilhabe i
 n Tuttlingen – wie klappt’s?”\n\nDer Brunch ist auf Spendenbasis\n\nMu
 sik: Hairball Remedy
X-ALT-DESC;FMTTYPE=text/html:<p>Brunch und Diskussion mit dem Thema “P
 olitische Teilhabe in Tuttlingen – wie klappt’s?”</p>\n<p>Der Brunch i
 st auf Spendenbasis</p>\n<p>Musik: Hairball Remedy</p>\n
URL:https://kukav.de/events/brunch-talk/?lang=de
ATTACH:https://kukav.de/events/brunch-talk/?lang=de
ATTACH:https://kukav.de/wp-content/uploads/2024/02/2024-02-25-brunch-u
 nd-diskussion.jpg
LOCATION:Kulturkasten\, Katharinenstraße 9\, Tuttlingen
END:VEVENT
END:VCALENDAR
