BEGIN:VCALENDAR
VERSION:2.0
METHOD:PUBLISH
PRODID:-//hacksw/handcal//NONSGML v1.0//EN
BEGIN:VEVENT
DTSTAMP:20260420T171444Z
DTSTART:20260422T180000Z
DTEND:20260422T210000Z
UID:20260422T180000Z-20260422T210000Z-456@kukav.de
SUMMARY:Das schreibe ich
DESCRIPTION:Das Schreibe-Ich\n\nIm „Stillen Kämmerlein“ oder doch lieb
 er gleich ran an die imaginären Leser? Zum Schreiben gehört die Welt u
 m uns herum genauso wie der Blick nach innen. Brauche ich einen Anstoß
  zum Loslegen oder die Besprechung eines Etappenziels? Stimmt der Stil
  oder wird die Erzählperspektive meiner Absicht beim Schreiben überhau
 pt gerecht?\n\nViele Fragen und noch mehr\, mit denen Du beim Schreibe
 n nicht alleine bist. Um diese zu klären\, möchten wir in einen regelm
 äßigen Austausch über unsere anstehenden oder bereits bestehende Texte
  eintreten. Jeden vierten Mittwoch im Monat\, ab 19 Uhr\, im KUKAV.
X-ALT-DESC;FMTTYPE=text/html:<p>Das Schreibe-Ich</p>\n<p>Im „Stillen K
 ämmerlein“ oder doch lieber gleich ran an die imaginären Leser? Zum Sc
 hreiben gehört die Welt um uns herum genauso wie der Blick nach innen.
  Brauche ich einen Anstoß zum Loslegen oder die Besprechung eines Etap
 penziels? Stimmt der Stil oder wird die Erzählperspektive meiner Absic
 ht beim Schreiben überhaupt gerecht?</p>\n<p>Viele Fragen und noch meh
 r\, mit denen Du beim Schreiben nicht alleine bist. Um diese zu klären
 \, möchten wir in einen regelmäßigen Austausch über unsere anstehenden
  oder bereits bestehende Texte eintreten. Jeden vierten Mittwoch im Mo
 nat\, ab 19 Uhr\, im KUKAV.</p>\n
URL:https://kukav.de/events/das-schreibe-ich-2/?lang=en
ATTACH:https://kukav.de/events/das-schreibe-ich-2/?lang=en
ATTACH:https://kukav.de/wp-content/uploads/2026/03/00_Das-schreibeich.
 jpg
LOCATION:Kulturkasten\, Katharinenstraße 9\, Tuttlingen
END:VEVENT
END:VCALENDAR
